BEGIN:VCALENDAR
VERSION:2.0
PRODID:-//MONTESSORI SCHULE - ECPv6.15.20//NONSGML v1.0//EN
CALSCALE:GREGORIAN
METHOD:PUBLISH
X-WR-CALNAME:MONTESSORI SCHULE
X-ORIGINAL-URL:https://montessori-nordheide.de
X-WR-CALDESC:Veranstaltungen für MONTESSORI SCHULE
REFRESH-INTERVAL;VALUE=DURATION:PT1H
X-Robots-Tag:noindex
X-PUBLISHED-TTL:PT1H
BEGIN:VTIMEZONE
TZID:Europe/Berlin
BEGIN:DAYLIGHT
TZOFFSETFROM:+0100
TZOFFSETTO:+0200
TZNAME:CEST
DTSTART:20250330T010000
END:DAYLIGHT
BEGIN:STANDARD
TZOFFSETFROM:+0200
TZOFFSETTO:+0100
TZNAME:CET
DTSTART:20251026T010000
END:STANDARD
BEGIN:DAYLIGHT
TZOFFSETFROM:+0100
TZOFFSETTO:+0200
TZNAME:CEST
DTSTART:20260329T010000
END:DAYLIGHT
BEGIN:STANDARD
TZOFFSETFROM:+0200
TZOFFSETTO:+0100
TZNAME:CET
DTSTART:20261025T010000
END:STANDARD
BEGIN:DAYLIGHT
TZOFFSETFROM:+0100
TZOFFSETTO:+0200
TZNAME:CEST
DTSTART:20270328T010000
END:DAYLIGHT
BEGIN:STANDARD
TZOFFSETFROM:+0200
TZOFFSETTO:+0100
TZNAME:CET
DTSTART:20271031T010000
END:STANDARD
END:VTIMEZONE
BEGIN:VEVENT
DTSTART;TZID=Europe/Berlin:20260510T160000
DTEND;TZID=Europe/Berlin:20260510T183000
DTSTAMP:20260422T125736
CREATED:20241113T144823Z
LAST-MODIFIED:20260310T170344Z
UID:1508-1778428800-1778437800@montessori-nordheide.de
SUMMARY:Benefizkonzert zum Muttertag mit Nora Sänger & Friends
DESCRIPTION:Erlebt einen besonderen Abend voller Musik und Begegnung. \nAm 10.05.2026 um 16 Uhr laden wir euch herzlich zu unserem Benefizkonzert in der Kulturkirche St. Johannis in Buchholz ein. Die wunderbare Nora Sänger organisiert diesen Abend für uns – gemeinsam mit einer weiteren Künstler u.a. Kat Wulff und verschiedenen Kinderchören entsteht ein Konzert voller Emotion und musikalischer Freude – perfekt für den Muttertag. \nDer Eintritt ist auf Spendenbasis. Ein Hut geht durch die Reihen\, und wir freuen uns über jede Gabe\, die von Herzen kommt. Die Spenden fließen in unsere Montessori-Materialien für Mathematik und Deutsch. \nIn der Pause gibt es Snacks und Getränke gegen Spende – Zeit für Gespräche und Begegnungen. \nWir wünschen uns sehr\, wenn sich die Reihen an diesem Abend richtig füllen.
URL:https://montessori-nordheide.de/event/benefizkonzert-mit-nora-saenger-friends/
ATTACH;FMTTYPE=image/jpeg:https://montessori-nordheide.de/wp-content/uploads/2024/11/Benefizkonzert_20260510.jpg
END:VEVENT
END:VCALENDAR