BEGIN:VCALENDAR
VERSION:2.0
PRODID:-//MONTESSORI SCHULE - ECPv6.15.20//NONSGML v1.0//EN
CALSCALE:GREGORIAN
METHOD:PUBLISH
X-ORIGINAL-URL:https://montessori-nordheide.de
X-WR-CALDESC:Veranstaltungen für MONTESSORI SCHULE
REFRESH-INTERVAL;VALUE=DURATION:PT1H
X-Robots-Tag:noindex
X-PUBLISHED-TTL:PT1H
BEGIN:VTIMEZONE
TZID:Europe/Berlin
BEGIN:DAYLIGHT
TZOFFSETFROM:+0100
TZOFFSETTO:+0200
TZNAME:CEST
DTSTART:20240331T010000
END:DAYLIGHT
BEGIN:STANDARD
TZOFFSETFROM:+0200
TZOFFSETTO:+0100
TZNAME:CET
DTSTART:20241027T010000
END:STANDARD
BEGIN:DAYLIGHT
TZOFFSETFROM:+0100
TZOFFSETTO:+0200
TZNAME:CEST
DTSTART:20250330T010000
END:DAYLIGHT
BEGIN:STANDARD
TZOFFSETFROM:+0200
TZOFFSETTO:+0100
TZNAME:CET
DTSTART:20251026T010000
END:STANDARD
BEGIN:DAYLIGHT
TZOFFSETFROM:+0100
TZOFFSETTO:+0200
TZNAME:CEST
DTSTART:20260329T010000
END:DAYLIGHT
BEGIN:STANDARD
TZOFFSETFROM:+0200
TZOFFSETTO:+0100
TZNAME:CET
DTSTART:20261025T010000
END:STANDARD
END:VTIMEZONE
BEGIN:VEVENT
DTSTART;TZID=Europe/Berlin:20251122T153000
DTEND;TZID=Europe/Berlin:20251122T170000
DTSTAMP:20260424T193758
CREATED:20251118T225137Z
LAST-MODIFIED:20251118T225605Z
UID:2466-1763825400-1763830800@montessori-nordheide.de
SUMMARY:MontiNo Austausch mit der Schulleitung - für ViertklässlerInnen\, Eltern\, Lehrkräfte und alle anderen!
DESCRIPTION:Für Eltern\, Kinder\, ViertklässlerInnen\, Lehrkräfte\, PädagogInnen und alle anderen Interessierten: \nAm Samstag\, 22.11.2025 ist unsere Schulleitung Inge zu Besuch in Buchholz und gemeinsam mit Cindy und Anna beantwortet sie Eure offenen Fragen. Kommt vorbei! \nWir treffen uns in der Buchholzer Innenstadt in den Räumlichkeiten der Gründonauten\, Breite Str. 7. Der Eingang befindet sich hinter dem Haus beim Parkplatz\, direkt rechts vom Durchgang bei Budni. \nWir bitten um eine kurze Anmeldung bis 21.11. an info@montessori-nordheide.de und freuen uns auf Euch!
URL:https://montessori-nordheide.de/event/montino-austausch-mit-der-schulleitung-fuer-viertklaesslerinnen-eltern-lehrkraefte-und-alle-anderen/
LOCATION:Gründonauten\, Breite Straße 7\, 21244 Buchholz\, Breite Straße 7\, Buchholz in der Nordheide\, 21244\, Germany
ATTACH;FMTTYPE=image/jpeg:https://montessori-nordheide.de/wp-content/uploads/2025/11/Flyer-Montino-Austausch-22.11.2025.jpg
END:VEVENT
END:VCALENDAR